Workbook

Sheet ТЕСТ
B1: Психологический портрет учителя | G1: Методика не может быть использована в целях административного контроля – для оценки работы учителя, при аттестации, решении кадровых вопросов и т.д.
B5: Авторы: З.В. Резапкина, Г.В. Резапкина | H5: Методика «Психологический портрет учителя» помогает увидеть психологические причины профессиональных затруднений педагога прежде, чем они станут очевидными для учеников и коллег, и принять решение – «меняться самому», «менять работу» или «оставить все как есть». Эта методика может стать началом работы учителя над собой. Продолжением может быть участие педагога в тренингах профессионального и личностного роста.
B8: Теоретическая основой методики: учение А.А. Ухтомского о доминанте, труды В.А. Сухомлинского, духовно ориентированная психология Т.А. Флоренской, «Я-концепция» Р. Бернса, подходы У. Джеймса, А. Маслоу, К. Роджерса, Т. Гордона.
B11: УВАЖАЕМЫЙ КОЛЛЕГА! Этот тест (50 вопросов) поможет вам получить характеристику своего стиля преподавания и обратить внимание на некоторые особенности своей нервной системы. Из трех вариантов ответа (1, 2 или 3) выберете тот, который точнее всего отражает ваши мысли, чувства, реакции и отметьте его в клетке "ОТВЕТ".
B14: № | C14: Вопрос | D14: 1 | E14: 2 | F14: 3 | G14: ОТВЕТ | H14: № | I14: Вопрос | J14: 1 | K14: 2 | L14: 3 | M14: ОТВЕТ
B15: 1. | C15: В воспитании детей важней всего… | D15: окружить ребенка теплотой и заботой | E15: заложить уважительное отношение к старшим | F15: выработать у ребенка определенные взгляды и умения | G15: 1 | H15: 26. | I15: В работе для меня важнее всего | J15: привязанность учеников | K15: признание коллег | L15: чувство собственной необходимости | M15: 1
B16: 2. | C16: Если кто-то в классе отвлекается, я не могу вести урок | D16: да | E16: нет | F16: в зависимости от ситуации или настроения | G16: 3 | H16: 27. | I16: Успех урока зависит от моего физического и душевного состояния | J16: часто | K16: иногда | L16: не зависит | M16: 1
B17: 3. | C17: Когда ученик на уроке излагает факты, которые мне неизвестны, я испытываю | D17: интерес | E17: смущение | F17: раздражение | G17: 1 | H17: 28. | I17: В дружелюбном отношении со стороны коллег | J17: я не сомневаюсь | K17: уверенности нет | L17: затрудняюсь ответить | M17: 3
B18: 4. | C18: Если класс не приведен в порядок | D18: моя реакция зависит от ситуации | E18: я не обращаю на это внимание | F18: я не могу начать урок | G18: 1 | H18: 29. | I18: Если ученик высказывает точку зрения, которую я не могу принять | J18: я пытаюсь понять его точку зрения | K18: я перевожу разговор на другую тему | L18: я стараюсь поправить его, объяснить ему его ошибку | M18: 1
B19: 5. | C19: В конфликтах с другими людьми я чувствую вину за собой | D19: часто | E19: в зависимости от ситуации | F19: редко | G19: 2 | H19: 30. | I19: Если я захочу, то смогу расположить к себе любого человека | J19: да | K19: в зависимости от ситуации | L19: вряд ли | M19: 2
B20: 6. | C20: Для меня важнее | D20: отношение с учениками | E20: отношение с коллегами | F20: затрудняюсь ответить | G20: 3 | H20: 31. | I20: Если при мне незаслуженно наказывают ученика | J20: я тут же заступаюсь за него | K20: один на один сделаю замечание коллеге | L20: сочту некорректным вмешиваться | M20: 2
B21: 7. | C21: Некоторые ученики вызывают у меня раздражение, которое трудно скрыть | D21: часто | E21: иногда | F21: никогда не вызывают | G21: 2 | H21: 32. | I21: Работа дается мне ценой большого напряжения | J21: обычно | K21: иногда | L21: редко | M21: 3
B22: 8. | C22: Присутствие на уроке посторонних | D22: воодушевляет меня | E22: никак не отражается на моей работе | F22: выбивает меня из колеи | G22: 2 | H22: 33. | I22: У меня нет сомнений в своем профессионализме | J22: безусловно | K22: есть сомнения | L22: не приходилось задумываться | M22: 2
B23: 9. | C23: Я считаю своим долгом сделать замечание, если ребенок нарушает порядок в общественном месте | D23: в зависимости от ситуации | E23: нет | F23: да | G23: 1 | H23: 34. | I23: По-моему, в школьном коллективе важнее всего | J23: возможность работать творчески | K23: отсутствие конфликтов | L23: трудовая дисциплина | M23: 1
B24: 10 | C24: Мои школьные отметки зависели от моих усилий, а не от настроения учителей | D24: да | E24: не всегда | F24: нет | G24: 1 | H24: 35. | I24: На детей влияет так много факторов, что усилия родителей сводятся на «нет» | J24: нет | K24: не всегда | L24: да | M24: 2
B25: 11. | C25: Во время перемены я предпочитаю общаться | D25: с учениками | E25: с коллегами | F25: лучше побыть в одиночестве | G25: 3 | H25: 36. | I25: С высказыванием «Я ничему не могу научить этого ученика, потому что он меня не любит» | J25: согласен полностью | K25: не согласен | L25: что-то в этом есть | M25: 2
B26: 12. | C26: Я почти всегда иду на урок в приподнятом настроении | D26: да | E26: не всегда | F26: нет | G26: 2 | H26: 37. | I26: Мысли о работе мешают мне уснуть | J26: часто | K26: редко | L26: никогда не мешают | M26: 2
B27: 13. | C27: У меня есть такие качества, по которым я превосхожу других | D27: да | E27: нет | F27: не уверен | G27: 3 | H27: 38. | I27: На собраниях и педсоветах я выступаю по волнующим меня вопросам | J27: часто | K27: иногда | L27: предпочитаю слушать других | M27: 2
B28: 14. | C28: Я предпочитаю работать под руководством человека, который | D28: предлагает простор для творчества | E28: не вмешивается в мою работу | F28: дает четкие указания | G28: 1 | H28: 39. | I28: Я считаю, что учитель может повысить голос на ученика | J28: нет, это недопустимо | K28: затрудняюсь ответить | L28: если ученик этого заслуживает | M28: 3
B29: 15. | C29: Когда я строю планы, я не сомневаюсь в успехе задуманного | D29: чаще всего | E29: иногда | F29: я почти всегда сомневаюсь | G29: 1 | H29: 40. | I29: Люди, не сумевшие реализовать свои возможности, сами виноваты в этом | J29: да | K29: в некоторых случаях | L29: нет | M29: 2
B30: 16. | C30: Случайные встречи с учениками за пределами школы | D30: доставляют мне удовольствие | E30: вызывают у меня чувство неловкости | F30: не вызывают у меня особых эмоции | G30: 1 | H30: 41. | I30: Во время каникул я испытываю потребности в общении с учениками | J30: да | K30: нет | L30: иногда | M30: 1
B31: 17. | C31: Бывает, что без видимых причин я чувствую себя счастливой или несчастной | D31: часто | E31: редко | F31: никогда | G31: 3 | H31: 42. | I31: Я нахожу в себе достаточно сил, чтобы справиться с трудностями | J31: редко | K31: когда как получается | L31: всегда | M31: 3
B32: 18. | C32: Замечания со стороны коллег и со стороны администрации | D32: меня мало волнуют | E32: иногда задевают меня | F32: часто задевают меня | G32: 2 | H32: 43. | I32: Мне приходилось выполнять приказы людей не вполне компетентных | J32: да | K32: иногда | L32: нет | M32: 1
B33: 19. | C33: Во время урока я придерживаюсь намеченного плана | D33: в зависимости от ситуации | E33: предпочитаю импровизацию | F33: всегда | G33: 1 | H33: 44. | I33: Не предвиденные ситуации на уроках | J33: можно эффектно использовать | K33: лучше игнорировать | L33: только мешает учебному процесс | M33: 1
B34: 20. | C34: Мои успехи обычно признаются другими людьми | D34: да | E34: не всегда | F34: редко | G34: 2 | H34: 45. | I34: Большинство неудач в моей жизни происходило по моей собственной вине | J34: да | K34: не всегда | L34: нет | M34: 2
B35: 21. | C35: С мнением, что каждого ученика нужно принимать таким, каков он есть | D35: я согласен | E35: не согласен | F35: что-то в этом есть | G35: 1 | H35: 46. | I35: В конфликте между коллегами – учителей и учеников я «в душе» встаю на сторону | J35: ученика | K35: учителя | L35: сохраняю нейтралитет | M35: 2
B36: 22. | C36: Мне не хватает теплоты и поддержки со стороны близких и коллег | D36: да | E36: иногда | F36: нет | G36: 2 | H36: 47. | I36: В начале или в конце учебного года у меня возникают проблемы со здоровьем | J36: как правило | K36: иногда | L36: проблем со здоровьем нет | M36: 1
... B39: 25. | C39: От того, как воспитывают детей в семье, зависит | D39: почти все | E39: кое-что | F39: ничего не зависит | G39: 1 | H39: 50. | I39: Успех зависит от способностей и трудолюбия человека, а не от удачного стечения обстоятельств | J39: чаще всего | K39: когда как | L39: не согласен | M39: 1
K41: УЗНАТЬ РЕЗУЛЬТАТ

Sheet Итог
A2: I | C2: II | E2: III | G2: IV | I2: V
A3: № | B3: ответ | C3: № | D3: ответ | E3: № | F3: ответ | G3: № | H3: ответ | I3: № | J3: ответ
A4: 1 | B4: =ТЕСТ!G15 -> 1 | C4: 2 | D4: =ТЕСТ!G16 -> 3 | E4: 3 | F4: =ТЕСТ!G17 -> 1 | G4: 4 | H4: =ТЕСТ!G18 -> 1 | I4: 5 | J4: =ТЕСТ!G19 -> 2
A5: 6 | B5: =ТЕСТ!G20 -> 3 | C5: 7 | D5: =ТЕСТ!G21 -> 2 | E5: 8 | F5: =ТЕСТ!G22 -> 2 | G5: 9 | H5: =ТЕСТ!G23 -> 1 | I5: 10 | J5: =ТЕСТ!G24 -> 1
A6: 11 | B6: =ТЕСТ!G25 -> 3 | C6: 12 | D6: =ТЕСТ!G26 -> 2 | E6: 13 | F6: =ТЕСТ!G27 -> 3 | G6: 14 | H6: =ТЕСТ!G28 -> 1 | I6: 15 | J6: =ТЕСТ!G29 -> 1
A7: 16 | B7: =ТЕСТ!G30 -> 1 | C7: 17 | D7: =ТЕСТ!G31 -> 3 | E7: 18 | F7: =ТЕСТ!G32 -> 2 | G7: 19 | H7: =ТЕСТ!G33 -> 1 | I7: 20 | J7: =ТЕСТ!G34 -> 2
A8: 21 | B8: =ТЕСТ!G35 -> 1 | C8: 22 | D8: =ТЕСТ!G36 -> 2 | E8: 23 | F8: =ТЕСТ!G37 -> 1 | G8: 24 | H8: =ТЕСТ!G38 -> 3 | I8: 25 | J8: =ТЕСТ!G39 -> 1
A9: 26 | B9: =ТЕСТ!M15 -> 1 | C9: 27 | D9: =ТЕСТ!M16 -> 1 | E9: 28 | F9: =ТЕСТ!M17 -> 3 | G9: 29 | H9: =ТЕСТ!M18 -> 1 | I9: 30 | J9: =ТЕСТ!M19 -> 2
A10: 31 | B10: =ТЕСТ!M20 -> 2 | C10: 32 | D10: =ТЕСТ!M21 -> 3 | E10: 33 | F10: =ТЕСТ!M22 -> 2 | G10: 34 | H10: =ТЕСТ!M23 -> 1 | I10: 35 | J10: =ТЕСТ!M24 -> 2
A11: 36 | B11: =ТЕСТ!M25 -> 2 | C11: 37 | D11: =ТЕСТ!M26 -> 2 | E11: 38 | F11: =ТЕСТ!M27 -> 2 | G11: 39 | H11: =ТЕСТ!M28 -> 3 | I11: 40 | J11: =ТЕСТ!M29 -> 2
A12: 41 | B12: =ТЕСТ!M30 -> 1 | C12: 42 | D12: =ТЕСТ!M31 -> 3 | E12: 43 | F12: =ТЕСТ!M32 -> 1 | G12: 44 | H12: =ТЕСТ!M33 -> 1 | I12: 45 | J12: =ТЕСТ!M34 -> 2
A13: 46 | B13: =ТЕСТ!M35 -> 2 | C13: 47 | D13: =ТЕСТ!M36 -> 1 | E13: 48 | F13: =ТЕСТ!M37 -> 1 | G13: 49 | H13: =ТЕСТ!M38 -> 2 | I13: 50 | J13: =ТЕСТ!M39 -> 1
A14: Кол-во: | C14: Кол-во: | E14: Кол-во: | G14: Кол-во: | I14: Кол-во:
A15: 1 | B15: =COUNTIF(B4:B13,1) -> 5 | C15: 1 | D15: =COUNTIF(D4:D13,1) -> 2 | E15: 1 | F15: =COUNTIF(F4:F13,1) -> 4 | G15: 1 | H15: =COUNTIF(H4:H13,1) -> 7 | I15: 1 | J15: =COUNTIF(J4:J13,1) -> 4
A16: 2 | B16: =COUNTIF(B4:B13,2) -> 3 | C16: 2 | D16: =COUNTIF(D4:D13,2) -> 4 | E16: 2 | F16: =COUNTIF(F4:F13,2) -> 4 | G16: 2 | H16: =COUNTIF(H4:H13,2) -> 1 | I16: 2 | J16: =COUNTIF(J4:J13,2) -> 6
A17: 3 | B17: =COUNTIF(B4:B13,3) -> 2 | C17: 3 | D17: =COUNTIF(D4:D13,3) -> 4 | E17: 3 | F17: =COUNTIF(F4:F13,3) -> 2 | G17: 3 | H17: =COUNTIF(H4:H13,3) -> 2 | I17: 3 | J17: =COUNTIF(J4:J13,3) -> 0
B18: =IF(AND(B15>B16,B15>B17),"1",IF(AND(B16>B15,B16>B17),"2",IF(AND(B17>B15,B17>B16),"3"))) -> 1 | D18: =IF(AND(D15>D16,D15>D17),"1",IF(AND(D16>D15,D16>D17),"2",IF(AND(D17>D15,D17>D16),"3"))) -> FALSE | F18: =IF(AND(F15>F16,F15>F17),"1",IF(AND(F16>F15,F16>F17),"2",IF(AND(F17>F15,F17>F16),"3"))) -> FALSE | H18: =IF(AND(H15>H16,H15>H17),"1",IF(AND(H16>H15,H16>H17),"2",IF(AND(H17>H15,H17>H16),"3"))) -> 1 | J18: =IF(AND(J15>J16,J15>J17),"1",IF(AND(J16>J15,J16>J17),"2",IF(AND(J17>J15,J17>J16),"3"))) -> 2

Sheet РЕЗУЛЬТАТ
B2: Приоритетные ценности | L2: =IF(Итог!B18="1",Лист3!A1,IF(Итог!B18="2",Лист3!A2,IF(Итог!B18="3",Лист3!A3,"Ваша педагогическая деятельность говорит о разнообразии поведенческих стереотипов."))) -> В вашей деятельности преобладает гуманистическая направленность! Вам близки интересы и проблемы учеников. В основе отношений лежит безусловное принятие ребенка. Школьники безошибочно чувствуют Вас - Вы готового отстаивать их интересы, а они платят вам доверием и любовью. На ваших уроках они чувствуют себя комфортно. Благоприятная эмоциональная обстановка создает атмосферу для плодотворной работы и сохраняет и ваше психическое здоровье, и ученика.
B5: Профессионально важными качествами для учителя являются любовь к детям, стремление понять и помочь им. Если общение с детьми не является приоритетной ценностью для педагога, ему не стоит рассчитывать на любовь и доверие ребят, даже если он знает свое предмет и владеет методикой преподавания.
B14: Психоэмоциональное состояние | L14: =IF(Итог!D18="1",Лист3!A5,IF(Итог!D18="2",Лист3!A6,IF(Итог!D18="3",Лист3!A7,"Ваша педагогическая деятельность говорит о разнообразии поведенческих стереотипов."))) -> Ваша педагогическая деятельность говорит о разнообразии поведенческих стереотипов.
B17: Особенности поведения и восприятия учителя во многом обусловлены состоянием его нервной системы. При информационных и эмоциональных перегрузках, имеющих место в школе, возможны нарушения двигательного и речевого поведения учителя, проблемы со здоровьем.ценностью для педагога, ему не стоит рассчитывать на любовь и доверие ребят, даже если он знает свое предмет и владеет методикой преподавания.
B26: Самооценка | L26: =IF(Итог!F18="1",Лист3!A9,IF(Итог!F18="2",Лист3!A10,IF(Итог!F18="3",Лист3!A11,"Ваша педагогическая деятельность говорит о разнообразии поведенческих стереотипов."))) -> Ваша педагогическая деятельность говорит о разнообразии поведенческих стереотипов.
B29: Самооценка, или самовосприятие, - это оценка человеком самого себя, своих возможностей, качеств и места среди других людей. Представления учителя о принципах преподавания, вся его «личная педагогическая философия» во многом определяется его самооценкой.
B40: Стиль преподавания | L40: =IF(Итог!H18="1",Лист3!A13,IF(Итог!H18="2",Лист3!A14,IF(Итог!H18="3",Лист3!A15,"Ваша педагогическая деятельность говорит о разнообразии поведенческих стереотипов."))) -> У Вас преобладает демократический стиль деятельности! Вы даёте возможность ученикам самостоятельно принимать решения, прислушиваетесь к их мнению, поощряете самостоятельность суждений, учитываете не только успеваемость, но и личностные качества учеников. Основные методы воздействия: побуждение, совет, просьба. У такого педагога наблюдается удовлетворенность своей профессией, гибкость, высокая степень принятия себя и других, открытость и естественность в общении, доброжелательный настрой, способствующий эффективности обучения.
B43: На формирование стиля преподавания оказывает влияние целый ряд факторов: личностные особенности, жизненные установки, опыт. Стиль преподавания может способствовать эффективности работы учителя или осложнять выполнение педагогом своих профессиональных обязанностей.
B54: Уровень субъективного контроля | L54: =IF(Итог!J18="1",Лист3!A17,IF(Итог!J18="2",Лист3!A18,IF(Итог!J18="3",Лист3!A19,"Ваша педагогическая деятельность говорит о разнообразии поведенческих стереотипов."))) -> Ваша деятельность говорит о средней степени сформированности субъективного контроля! Причины одних событий, которые происходят с вами, Вы видите в себе, других – во внешних обстоятельствах.
B57: Уровень субъективного контроля показывает, какую меру ответственности в отношениях с людьми и относительно фактов собственной жизни человек готов взять на себя. Профессия учителя требует готовности отвечать за другого человека, иногда ценой собственного душевного спокойствия и личного времени.

Sheet Лист3
A1: В вашей деятельности преобладает гуманистическая направленность! Вам близки интересы и проблемы учеников. В основе отношений лежит безусловное принятие ребенка. Школьники безошибочно чувствуют Вас - Вы готового отстаивать их интересы, а они платят вам доверием и любовью. На ваших уроках они чувствуют себя комфортно. Благоприятная эмоциональная обстановка создает атмосферу для плодотворной работы и сохраняет и ваше психическое здоровье, и ученика.
A2: Для Вас значимо отношение с коллегами! Вы ориентированы на мнение коллег и одминистрации, что может свидетельствовать о групповой зависимости, которая нередко объясняется низкой самооценкой. Вас, как правило, мало интересует внутренний мир ребенка. В отношениях с вами ребята держат себя настороженно, напряженно, так как не видят в вас союзника. Отношения в лучшем случае не носят личной окраски, чаще всего они пронизаны чувством недоверия и отчуждения.
A3: Вы сконцентрированы на своих переживаниях и проблемах! В отношениях с коллегами и учениками у вас преобладает сдержанность, отчужденность, которая может быть вызвана как личными особенностями, так и неблагоприятным психоэмоциональным состоянием. Возможно, ваш круг интересов не исчерпывается только профессиональными педагогическими вопросами. Вы реализуете свои возможности не только в школьной педагогической практике.
A5: Неблагополучное психоэмоциональное состояние учителя! Главные признаки такого состояния: острая реакция на раздражающие факторы, низкая эмоциональная устойчивость, склонность к тревоге, трудности социальной адаптации, наличие психосоматической симптоматики.
A6: Нестабильность психоэмоционального состояния учителя! Как правило, нестабильное психоэмоциональное состояние определяется тремя факторами в различных их сочетаниях: врожденная повышенная чувствительность нервной системы, неблагополучное стечение обстоятельств или личностные особенности, определяющие реакцию на возникающие обстоятельства.
A7: Благополучное психоэмоциональное состояние учителя! Такое состояние определят эффективность работы учителя, дает возможность не терять самообладания в экстремальных ситуациях и принимать верные решения. Ваша эмоциональная стабильность, предсказуемость и работоспособность благотворно влияют на психологический климат в коллективе, если только за внешним благополучием и невозмутимостью не кроются другие проблемы и человек по каким-то причинам скрывает свое истинное состояние.
A9: У Вас позитивное самовосприятие, которое свойственно человеку, в полной мере реализующему свои возможности! Учителям, обладающим позитивным самовосприятием, легко создавать на уроке атмосферу живого общения, вступая в контакты и оказывая им психологическую поддержку. Они доверяют людям и ждут от них дружелюбия, а не враждебности. Ученика всегда воспринимают как личность, заслуживающую уважения. Благодаря таким учителям становится возможным личностное развитие школьников.
A10: У Вас неустойчивая самооценка, которая может меняться в зависимости от ситуации! При удачном стечении обстоятельств человек с неустойчивой самооценкой испытывает эмоциональный и творческий подъем. В эти моменты учитель преображается: он раскован, уверен в себе, у него все получается. Снижение самооценки в «полосе неудач» негативно влияет на эффективность взаимодействия с окружающими, затрудняя решение профессиональных и жизненных проблем.
A11: Негативное самовосприятие! Такому человеку трудно вступать в свободное общение с другими. Ему свойственно принижать значение личности другого человека точно так же, как и своей. Поэтому такой педагог стремиться повысить свою самооценку, нередко за счет учеников. Переход на неформальный стиль преподавания, требующий от него большого интеллектуального, эмоционального и нравственного напряжения, обнажает уязвимые места, создает угрозу внутреннему равновесию учителя.
A13: У Вас преобладает демократический стиль деятельности! Вы даёте возможность ученикам самостоятельно принимать решения, прислушиваетесь к их мнению, поощряете самостоятельность суждений, учитываете не только успеваемость, но и личностные качества учеников. Основные методы воздействия: побуждение, совет, просьба. У такого педагога наблюдается удовлетворенность своей профессией, гибкость, высокая степень принятия себя и других, открытость и естественность в общении, доброжелательный настрой, способствующий эффективности обучения.
A14: В вашей работе присутствуют черты «попустительского» стиля деятельности! Такой учитель уходит от принятия решений, передавая инициативу ученикам, коллегам, родителям. Организацию и контроль деятельности учащихся осуществляется без системы. В сложных педагогических ситуациях он проявляет нерешительность и колебания, испытывая чувство определенной зависимости от учащихся. Для многих из таких педагогов характерна заниженная самооценка, чувство тревоги и неуверенности в своем профессионализме, неудовлетворенность своей работой.
A15: В вашей деятельности присутствуют авторитарные тенденции! Вы используете свои права, как правило, не считаясь с мнением детей и конкретной ситуацией. Главные методы воздействия – приказ, поучение. Для такого учителя характерна неудовлетворенность работой многих учащихся, хотя он может иметь репутацию «сильного педагога». На уроках дети чувствуют себя неуютно, значительная их часть не проявляет активности и самостоятельности.
... A19: Ваша деятельность говорит о низком уровне субъективного контроля! Люди с таким уровнем субъективного контроля склонны приписывать ответственность за события своей жизни (как позитивные, так и негативные) другим людям, случаю, судьбе.
